BEGIN:VCALENDAR
VERSION:2.0
PRODID:-//Tukios.com/
BEGIN:VEVENT
UID:da1cac7f-a233-49b5-8581-d7e02da572f8@www.lowegardner.com
DTSTAMP:20260424T003600Z
DTSTART:20260426
SUMMARY:Burial
DESCRIPTION:
URL:https://www.lowegardner.com/obituaries/dorothy-ingram
LOCATION:  FM 69  Quitman TX 75783
GEO:32.8792441;-95.4302394
END:VEVENT
END:VCALENDAR