BEGIN:VCALENDAR
VERSION:2.0
PRODID:-//Tukios.com/
BEGIN:VEVENT
UID:482a0904-9185-4d5b-8eea-74a01168275e@www.lowegardner.com
DTSTAMP:20260424T002945Z
DTSTART:20260426T190000Z
DTEND:20260426T200000Z
SUMMARY:Funeral Service
DESCRIPTION:
URL:https://www.lowegardner.com/obituaries/dorothy-ingram
LOCATION: 1102 E. Goode St.  Quitman TX 75783
GEO:32.7948592;-95.4299062
END:VEVENT
END:VCALENDAR