BEGIN:VCALENDAR
VERSION:2.0
PRODID:-//Tukios.com/
BEGIN:VEVENT
UID:1e5b6876-c573-43f4-9571-bac09fee2db9@www.lowegardner.com
DTSTAMP:20260424T003113Z
DTSTART:20260425T230000Z
DTEND:20260426T010000Z
SUMMARY:Visitation
DESCRIPTION:
URL:https://www.lowegardner.com/obituaries/dorothy-ingram
LOCATION: 1102 E. Goode St.  Quitman TX 75783
GEO:32.7948592;-95.4299062
END:VEVENT
END:VCALENDAR