BEGIN:VCALENDAR
VERSION:2.0
PRODID:-//Tukios.com/
BEGIN:VEVENT
UID:b6b35f7a-36a1-428a-a5e4-31f0b3fbb77e@www.lowegardner.com
DTSTAMP:20260424T081322Z
DTSTART:20260422T161500Z
DTEND:20260422T170000Z
SUMMARY:Interment
DESCRIPTION:
URL:https://www.lowegardner.com/obituaries/charles-harris
LOCATION: 406 Sissy Spacek Dr.  Quitman TX 75783
GEO:32.79266;-95.4501395
END:VEVENT
END:VCALENDAR