BEGIN:VCALENDAR
VERSION:2.0
PRODID:-//Tukios.com/
BEGIN:VEVENT
UID:ac65360c-8cc3-4f0f-ac90-3e026ac0de72@www.lowegardner.com
DTSTAMP:20260424T082223Z
DTSTART:20260422T150000Z
DTEND:20260422T160000Z
SUMMARY:Funeral Service
DESCRIPTION:
URL:https://www.lowegardner.com/obituaries/charles-harris
LOCATION: 1102 E. Goode St.  Quitman TX 75783
GEO:32.7948592;-95.4299062
END:VEVENT
END:VCALENDAR