BEGIN:VCALENDAR
VERSION:2.0
PRODID:-//Tukios.com/
BEGIN:VEVENT
UID:bbbf0f5d-75ec-4b5a-a099-9c22b1bb81f3@www.lowegardner.com
DTSTAMP:20260424T080440Z
DTSTART:20260421T230000Z
DTEND:20260422T010000Z
SUMMARY:Visitation
DESCRIPTION:
URL:https://www.lowegardner.com/obituaries/charles-harris
LOCATION: 1102 E. Goode St.  Quitman TX 75783
GEO:32.7948592;-95.4299062
END:VEVENT
END:VCALENDAR